BEGIN:VCALENDAR
VERSION:2.0
PRODID:-//eventon.com NONSGML v1.0//EN
BEGIN:VEVENT
UID:69ebeb2c71c17
DTSTAMP:20260425T001404
DTSTART:20250422T103000Z
DTEND:20250422T113000Z
LOCATION:
SUMMARY:37ème webinaire du RSSP : Réduction des risques et travail du sexe : présentation d'interventions québécoises
DESCRIPTION: Le mardi 22 avril aura lieu le webinaire mensuel du RSSP de 12H30 à 13H30. Il aura pour thème « Réduction des risques et travail du sexe : présentation d'interventions québécoises ». Il sera présenté par : Alexandre Albert - Sexologue  et détenteur d'un master en intervention en dépendance - Centre d'Intervention en Abus Sexuel pour[..]
URL:https://www.santesexuelle.org/events/37eme-webinaire-du-rssp-reduction-des-risques-et-travail-du-sexe-presentation-dinterventions-quebecoises/var/event_access
END:VEVENT
END:VCALENDAR